BEGIN:VCALENDAR
VERSION:2.0
PRODID:-//STADTKULTUR HAMBURG//kultur-hamburg.de///DE
CALSCALE:GREGORIAN
BEGIN:VEVENT
X-WR-TIMEZONE:Europe/Berlin
DTSTART:20120730T100000
DTEND:20120803T120000
LOCATION:Ev. Familienbildung Norderstedt \, Kirchenplatz 1 \, 22844 Norderstedt
DTSTAMP:20260423T234215
SUMMARY:Wir fotografieren und gestalten ein Fotobuch digital
URL;VALUE=URI:https://www.kultur-hamburg.de/kurse_workshops/wir-fotografieren-und-gestalten-ein-fotobuch-digital-82106
DESCRIPTION:Wir gehen gemeinsam in der näheren Umgebung auf digitale Fotosafari.
Aus den neu entstandenen Fotos und mitgebrachten Fotos gestaltet ihr
dann am Computer ein Fotobuch mit euren eigenen Fotos.
UID:efce905ae19d2278ab2a489274020bd1@kulturhamburg
END:VEVENT
END:VCALENDAR