BEGIN:VCALENDAR
VERSION:2.0
PRODID:-//STADTKULTUR HAMBURG//kultur-hamburg.de///DE
CALSCALE:GREGORIAN
BEGIN:VEVENT
X-WR-TIMEZONE:Europe/Berlin
DTSTART:20120804T110000
DTEND:20120811T150000
LOCATION:Ev. Familienbildung Eppendorf \, Loogeplatz 14/16 \, 20249 Hamburg
DTSTAMP:20260423T234124
SUMMARY:Kochen in 35 Minuten auf hohem Niveau mit Eberhard Höhn
URL;VALUE=URI:https://www.kultur-hamburg.de/kurse_workshops/kochen-in-35-minuten-auf-hohem-niveau-mit-eberhard-hoehn-82159
DESCRIPTION:Alle Rezepte sind leicht nachzukochen. Zum Verwöhnen Ihrer Lieben und Freunde. Ein Fest für Gaumen, Nase und Augen.
UID:6aaf4312b492bf951ebca6b951b0d6dc@kulturhamburg
END:VEVENT
END:VCALENDAR