BEGIN:VCALENDAR
VERSION:2.0
PRODID:-//STADTKULTUR HAMBURG//kultur-hamburg.de///DE
CALSCALE:GREGORIAN
BEGIN:VEVENT
X-WR-TIMEZONE:Europe/Berlin
DTSTART:20120807T143000
DTEND:20121023T160000
LOCATION:
DTSTAMP:20260423T220552
SUMMARY:Spielen und Entdecken - Für Eltern mit Babys von 6 — 12 Monaten
URL;VALUE=URI:https://www.kultur-hamburg.de/kurse_workshops/spielen-und-entdecken-fuer-eltern-mit-babys-von-6-oe-12-monaten-82802
DESCRIPTION:In diesem Kurs wollen wir gemeinsam singen und spielen. Die Eltern sind
eingeladen, sich auszutauschen oder auch beieinander Rat zu finden. Wir
wollen den Kindern nicht nur Anregungen anbieten, sondern sie sollen
auch Gelegenheit erhalten, in Ruhe mit sich oder miteinander zu spielen.
Dabei wollen wir herausfinden, was sie gerade für ihr Spiel und für ihre
Entwicklung benötigen.
UID:c95983b4d7128e61421a5eb32ca928a7@kulturhamburg
END:VEVENT
END:VCALENDAR