BEGIN:VCALENDAR
VERSION:2.0
PRODID:-//STADTKULTUR HAMBURG//kultur-hamburg.de///DE
CALSCALE:GREGORIAN
BEGIN:VEVENT
X-WR-TIMEZONE:Europe/Berlin
DTSTART:20120807T190000
DTEND:20120828T210000
LOCATION:
DTSTAMP:20260423T220552
SUMMARY:Bewegungstanz für Frauen
URL;VALUE=URI:https://www.kultur-hamburg.de/kurse_workshops/bewegungstanz-fuer-frauen-82804
DESCRIPTION:Einführung in die Methode „Heilende Kräfte im Tanz®“ (HKiT®)
Die Tanzform der HKiT® gibt uns die Möglichkeit, den eigenen Körper
kennen zu lernen und einen Weg zu uns selbst zu finden. Mit sowohl
sanften wie auch kraftvollen Bewegungen wollen wir in der eigenen
Mitte ankommen und im Fluss der Lebensenergie baden. Gestärkt und
empathisch können wir so unseren Mitmenschen gegenüber treten.
Bitte mitbringen: warme Socken und eine Decke
Leitung M. Maria Pastian
UID:8fcd9ee8f7eddb82efe0b1a4001e9d93@kulturhamburg
END:VEVENT
END:VCALENDAR