BEGIN:VCALENDAR
VERSION:2.0
PRODID:-//STADTKULTUR HAMBURG//kultur-hamburg.de///DE
CALSCALE:GREGORIAN
BEGIN:VEVENT
X-WR-TIMEZONE:Europe/Berlin
DTSTART:20120808T150000
DTEND:20120926T163000
LOCATION:
DTSTAMP:20260423T220557
SUMMARY:Waldgruppe - Für Eltern mit Kindern von 3 — 4 Jahren
URL;VALUE=URI:https://www.kultur-hamburg.de/kurse_workshops/waldgruppe-fuer-eltern-mit-kindern-von-3-oe-4-jahren-82808
DESCRIPTION:Wo wohnt das Eichhörnchen? Was fressen Igel? Kriegen Bäume Kinder?
Bei Walderkundungstouren durch den Forst Klövensteen lernen Kinder mit
Hilfe von Rallyes, Rätseln, Spielen und Stilleübungen die heimische Natur
kennen.
Dabei werden körperliche Bewegung und Koordination, Konzentration,
Eigeninitiative und ein wertschätzender Umgang miteinander und der
Natur gegenüber gefördert.
Bitte mitbringen: wetterfeste Kleidung und ein kleines Picknick.
UID:07f6853d8965c82db991ec6b4a43485a@kulturhamburg
END:VEVENT
END:VCALENDAR