BEGIN:VCALENDAR
VERSION:2.0
PRODID:-//STADTKULTUR HAMBURG//kultur-hamburg.de///DE
CALSCALE:GREGORIAN
BEGIN:VEVENT
X-WR-TIMEZONE:Europe/Berlin
DTSTART:20120817T173000
DTEND:20121123T181500
LOCATION:Ev. Familienbildung Eppendorf \, Loogeplatz 14/16 \, 20249 Hamburg
DTSTAMP:20260423T202125
SUMMARY:Musikalische Früherziehung - Hallo Tripptrappmaus!
URL;VALUE=URI:https://www.kultur-hamburg.de/kurse_workshops/musikalische-frueherziehung-hallo-tripptrappmaus!-82816
DESCRIPTION:Musik und Tanz für Kinder - das klassische Unterrichtswerk zur Musikalischen Früherziehung entwickelt im Orff-Institut in Salzburg. 
Begleitend gibt es ein Liederheft für den Einsatz zu Hause.
Für Kinder von 4 - 7 Jahren
UID:fe85cb38c469267d66963454d38fd9d4@kulturhamburg
END:VEVENT
END:VCALENDAR