BEGIN:VCALENDAR
VERSION:2.0
PRODID:-//STADTKULTUR HAMBURG//kultur-hamburg.de///DE
CALSCALE:GREGORIAN
BEGIN:VEVENT
X-WR-TIMEZONE:Europe/Berlin
DTSTART:20120803T160000
DTEND:20120804T130000
LOCATION:Ev. Familienbildung Eppendorf \, Loogeplatz 14/16 \, 20249 Hamburg
DTSTAMP:20260423T234215
SUMMARY:Nähen mit der Maschine - Für Jugendliche ab 10 Jahren
URL;VALUE=URI:https://www.kultur-hamburg.de/kurse_workshops/naehen-mit-der-maschine-fuer-jugendliche-ab-10-jahren-82817
DESCRIPTION:Hast du Lust, mit bunten Stoffen und der Nähmaschine kreative Ideen umzusetzen? Lerne die Nähmaschine kennen und erfahre Interessantes über den Umgang mit verschiedenen Stoffen. Schritt für Schritt lernst du das Schneidern mit der Nähmaschine. Jeder kann unter Anleitung z.B. Handy- oder Brillenetuis oder Umhängetaschen anfertigen.
Bitte mitbringen: Stoff, wenn vorhanden, Nähgarn, Nähutensilien.
UID:dbd7c436e8514f00451de5b6f217212f@kulturhamburg
END:VEVENT
END:VCALENDAR