BEGIN:VCALENDAR
VERSION:2.0
PRODID:-//STADTKULTUR HAMBURG//kultur-hamburg.de///DE
CALSCALE:GREGORIAN
BEGIN:VEVENT
X-WR-TIMEZONE:Europe/Berlin
DTSTART:20120825T103000
DTEND:20120825T133000
LOCATION:Ev. Familienbildung Eppendorf \, Loogeplatz 14/16 \, 20249 Hamburg
DTSTAMP:20260423T182931
SUMMARY:Kosmetik-Workshop am Samstag
URL;VALUE=URI:https://www.kultur-hamburg.de/kurse_workshops/kosmetik-workshop-am-samstag-82828
DESCRIPTION:Spieglein, Spieglein an der Wand
Entdecken Sie Ihren Typ und lernen mit gezielten Schminktechniken die individuellen Merkmale positiv zu betonen.
UID:dbd869b07ead5c2e49d206ccf7570bae@kulturhamburg
END:VEVENT
END:VCALENDAR