BEGIN:VCALENDAR
VERSION:2.0
PRODID:-//STADTKULTUR HAMBURG//kultur-hamburg.de///DE
CALSCALE:GREGORIAN
BEGIN:VEVENT
X-WR-TIMEZONE:Europe/Berlin
DTSTART:20120815T180000
DTEND:20120815T190000
LOCATION:Ev. Familienbildung Hamm-Horn \, Bei der Hammer Kirche 16 \, 20535 Hamburg
DTSTAMP:20260423T200608
SUMMARY:Pilates Schnupperkurs
URL;VALUE=URI:https://www.kultur-hamburg.de/kurse_workshops/pilates-schnupperkurs-82832
DESCRIPTION:Das intensive Körpertraining bewirkt Straffung und Kräftigung des
Körpers, fördert Beweglichkeit und vermittelt ein gutes Körpergefühl. Die
Übungen werden konzentriert ausgeführt, Atem und Bewegung miteinander
koordiniert. Auch für Neueinsteiger.
Bitte mitbringen: Bequeme Kleidung, Handtuch, warme Socken.
Schnupperkurs Pilates
UID:a34f58ac09d27631bc9d79cb5f4f36e8@kulturhamburg
END:VEVENT
END:VCALENDAR