BEGIN:VCALENDAR
VERSION:2.0
PRODID:-//STADTKULTUR HAMBURG//kultur-hamburg.de///DE
CALSCALE:GREGORIAN
BEGIN:VEVENT
X-WR-TIMEZONE:Europe/Berlin
DTSTART:20120815T200000
DTEND:20120815T213000
LOCATION:Ev. Familienbildung Hamm-Horn \, Bei der Hammer Kirche 16 \, 20535 Hamburg
DTSTAMP:20260423T201820
SUMMARY:Biodanza Schnupperkurs
URL;VALUE=URI:https://www.kultur-hamburg.de/kurse_workshops/biodanza-schnupperkurs-82833
DESCRIPTION:heißt Tanz des Lebens. Es ist die Einladung, sich von besonders ausgesuchter
Musik bewegen zu lassen. In der Begegnung mit sich selbst und
anderen, schafft Biodanza die Möglichkeit, uns mit unseren Potenzialen,
unserer Freude und unseren Wünschen stärker zu verbinden.
UID:79d20a6dcf0af39431ab9c47686d3ca0@kulturhamburg
END:VEVENT
END:VCALENDAR