BEGIN:VCALENDAR
VERSION:2.0
PRODID:-//STADTKULTUR HAMBURG//kultur-hamburg.de///DE
CALSCALE:GREGORIAN
BEGIN:VEVENT
X-WR-TIMEZONE:Europe/Berlin
DTSTART:20120822T153000
DTEND:20120822T173000
LOCATION:Ev. Familienbildung Hamm-Horn \, Bei der Hammer Kirche 16 \, 20535 Hamburg
DTSTAMP:20260423T182821
SUMMARY:Forschernachmittage
URL;VALUE=URI:https://www.kultur-hamburg.de/kurse_workshops/forschernachmittage-82902
DESCRIPTION:Wir probieren erste Forschermethoden aus, erleben die sinnliche Wahrnehmung
der Umwelt und lernen ökologische Zusammenhänge verstehen.
Bei schlechtem Wetter gehen wir nur kurz in den Park und anschließend in
die Familienbildung.
UID:5f9f65c4840894042e50fa7fa791a0f1@kulturhamburg
END:VEVENT
END:VCALENDAR