BEGIN:VCALENDAR
VERSION:2.0
PRODID:-//STADTKULTUR HAMBURG//kultur-hamburg.de///DE
CALSCALE:GREGORIAN
BEGIN:VEVENT
X-WR-TIMEZONE:Europe/Berlin
DTSTART:20120815T160000
DTEND:20120912T173000
LOCATION:Elternschule Osdorf \, Bornheide 76c \, 22549 Hamburg
DTSTAMP:20260423T202130
SUMMARY:Malen und Werken
URL;VALUE=URI:https://www.kultur-hamburg.de/kurse_workshops/malen-und-werken-82905
DESCRIPTION:In diesem Kurs trainieren die Kinder ihre Feinmotorik. Wir
werden drucken, zeichnen, Fantasie-Briefe schreiben und kleine Werkstücke
erarbeiten.
UID:212ed7062e94aab3e0c93adaee2ee118@kulturhamburg
END:VEVENT
END:VCALENDAR