BEGIN:VCALENDAR
VERSION:2.0
PRODID:-//STADTKULTUR HAMBURG//kultur-hamburg.de///DE
CALSCALE:GREGORIAN
BEGIN:VEVENT
X-WR-TIMEZONE:Europe/Berlin
DTSTART:20120806T163000
DTEND:20120806T173000
LOCATION:Elternschule Osdorf \, Bornheide 76c \, 22549 Hamburg
DTSTAMP:20260423T220602
SUMMARY:Kinderchor „Die Singflöhe“
URL;VALUE=URI:https://www.kultur-hamburg.de/kurse_workshops/kinderchor-die-singfloehe-82906
DESCRIPTION:Wir wollen singen und Spaß haben!
Durch Bewegungs- und Aktionslieder, Spiele und Auftritte wird den
Kindern Freude am Singen vermittelt. Durch fundierte Schulung lernen
sie, mit ihrer Stimme richtig umzugehen. Chorsingen ermöglicht die
Konzentration zu verbessern, die Entwicklung und Kreativität zu fördern,
Hemmungen abzubauen und den Gemeinschaftssinn zu stärken.
UID:7fbef232a25674137228ec6d1a3fd889@kulturhamburg
END:VEVENT
END:VCALENDAR