BEGIN:VCALENDAR
VERSION:2.0
PRODID:-//STADTKULTUR HAMBURG//kultur-hamburg.de///DE
CALSCALE:GREGORIAN
BEGIN:VEVENT
X-WR-TIMEZONE:Europe/Berlin
DTSTART:20121006T110000
DTEND:20121006T170000
LOCATION:KulturKlinker Barmbek e.V. \, Lorichsstraße 28 a \, 22307 Hamburg
DTSTAMP:20260423T090735
SUMMARY:Wochenend-Workshop: Mach Theater!
URL;VALUE=URI:https://www.kultur-hamburg.de/kurse_workshops/wochenend-workshop-mach-theater!-85156
DESCRIPTION:Impro-Theater  –  Dieser Workshop eröffnet den Teilnehmern einen ersten Einblick in die Teckniken und Grundlagen dieser Theaterform.
UID:1cc2572cf657418e808abe5f00e20c96@kulturhamburg
END:VEVENT
END:VCALENDAR