BEGIN:VCALENDAR
VERSION:2.0
PRODID:-//STADTKULTUR HAMBURG//kultur-hamburg.de///DE
CALSCALE:GREGORIAN
BEGIN:VEVENT
X-WR-TIMEZONE:Europe/Berlin
DTSTART:20121007T110000
DTEND:20121007T150000
LOCATION:KulturKlinker Barmbek e.V. \, Lorichsstraße 28 a \, 22307 Hamburg
DTSTAMP:20260423T090724
SUMMARY:Wochenend-Workshop: Mach Theater!
URL;VALUE=URI:https://www.kultur-hamburg.de/kurse_workshops/wochenend-workshop-mach-theater!-85157
DESCRIPTION:Impro-Theater  –  Dieser Workshop eröffnet den Teilnehmern einen ersten Einblick in die Teckniken und Grundlagen dieser Theaterform.
UID:7a378891c5a88b36c53f9db02a3b8085@kulturhamburg
END:VEVENT
END:VCALENDAR