BEGIN:VCALENDAR
VERSION:2.0
PRODID:-//STADTKULTUR HAMBURG//kultur-hamburg.de///DE
CALSCALE:GREGORIAN
BEGIN:VEVENT
X-WR-TIMEZONE:Europe/Berlin
DTSTART:20121014T110000
DTEND:20121014T160000
LOCATION:KulturWerkstatt Harburg e.V. \, Kanalplatz 6 \, 21079 Hamburg
DTSTAMP:20260423T072144
SUMMARY:“Tanz Dich in Deine Kraft“ - Eine dynamische Tanzmeditation!!
URL;VALUE=URI:https://www.kultur-hamburg.de/kurse_workshops/tanz-dich-in-deine-kraft-eine-dynamische-tanzmeditation!!-86113
DESCRIPTION:
UID:8023d75b3ada55bb3304277d87661d3a@kulturhamburg
END:VEVENT
END:VCALENDAR