BEGIN:VCALENDAR
VERSION:2.0
PRODID:-//STADTKULTUR HAMBURG//kultur-hamburg.de///DE
CALSCALE:GREGORIAN
BEGIN:VEVENT
X-WR-TIMEZONE:Europe/Berlin
DTSTART:20120908T110000
DTEND:20120908T170000
LOCATION:KulturKlinker Barmbek e.V. \, Lorichsstraße 28 a \, 22307 Hamburg
DTSTAMP:20260423T150422
SUMMARY:Workshop – Handpatchen
URL;VALUE=URI:https://www.kultur-hamburg.de/kurse_workshops/workshop--handpatchen-86115
DESCRIPTION:Lernen Sie die Technik des Patchens mit der Hand am Beispiel eines Nadelkissens, Tischsets oder Kissenbezuges kennen.
UID:424adc03592558dbfbedf20b025039f1@kulturhamburg
END:VEVENT
END:VCALENDAR