BEGIN:VCALENDAR
VERSION:2.0
PRODID:-//STADTKULTUR HAMBURG//kultur-hamburg.de///DE
CALSCALE:GREGORIAN
BEGIN:VEVENT
X-WR-TIMEZONE:Europe/Berlin
DTSTART:20120915T110000
DTEND:20120915T170000
LOCATION:KulturKlinker Barmbek e.V. \, Lorichsstraße 28 a \, 22307 Hamburg
DTSTAMP:20260423T132748
SUMMARY:Workshop – Siebdruck
URL;VALUE=URI:https://www.kultur-hamburg.de/kurse_workshops/workshop--siebdruck-86116
DESCRIPTION:Eine Einführung in die leicht zu erlernenden Grundformen und -techniken des manuellen Siebdrucks.
UID:87d4c411f2c90467861711b2b4aa6c9c@kulturhamburg
END:VEVENT
END:VCALENDAR