BEGIN:VCALENDAR
VERSION:2.0
PRODID:-//STADTKULTUR HAMBURG//kultur-hamburg.de///DE
CALSCALE:GREGORIAN
BEGIN:VEVENT
X-WR-TIMEZONE:Europe/Berlin
DTSTART:20120929T110000
DTEND:20120929T150000
LOCATION:KulturKlinker Barmbek e.V. \, Lorichsstraße 28 a \, 22307 Hamburg
DTSTAMP:20260423T103638
SUMMARY:Workshop – Bloggen
URL;VALUE=URI:https://www.kultur-hamburg.de/kurse_workshops/workshop--bloggen-86119
DESCRIPTION:Facebook, Twitter und Bloggen für Neugierige – für Menschen, die Social Media kennenlernen und ausprobieren möchten.
UID:8f1daed5b91fefbbd6eca55a06a90f66@kulturhamburg
END:VEVENT
END:VCALENDAR