BEGIN:VCALENDAR
VERSION:2.0
PRODID:-//STADTKULTUR HAMBURG//kultur-hamburg.de///DE
CALSCALE:GREGORIAN
BEGIN:VEVENT
X-WR-TIMEZONE:Europe/Berlin
DTSTART:20121013T110000
DTEND:20121013T150000
LOCATION:KulturKlinker Barmbek e.V. \, Lorichsstraße 28 a \, 22307 Hamburg
DTSTAMP:20260423T072058
SUMMARY:Workshop: Feldenkrais
URL;VALUE=URI:https://www.kultur-hamburg.de/kurse_workshops/workshop-feldenkrais-86120
DESCRIPTION:Feldenkrais ist eine Lernmethode, die Lernprozesse durch Bewegung gestaltet.
UID:6ca3eb830b2eb43be0373aa6fe60d90e@kulturhamburg
END:VEVENT
END:VCALENDAR