BEGIN:VCALENDAR
VERSION:2.0
PRODID:-//STADTKULTUR HAMBURG//kultur-hamburg.de///DE
CALSCALE:GREGORIAN
BEGIN:VEVENT
X-WR-TIMEZONE:Europe/Berlin
DTSTART:20121026T160000
DTEND:20121026T200000
LOCATION:KulturKlinker Barmbek e.V. \, Lorichsstraße 28 a \, 22307 Hamburg
DTSTAMP:20260423T033803
SUMMARY:Workshop: 8-Brokate – Pa tuan chin
URL;VALUE=URI:https://www.kultur-hamburg.de/kurse_workshops/workshop-8-brokate--pa-tuan-chin-86121
DESCRIPTION:Die 8-Brokate sind eine Übungsreihe aus dem Qi Gong, die im Stehen langsam und fließend durchgeführt wird.
UID:7c6b16765cbfa6c5a30595e626fae361@kulturhamburg
END:VEVENT
END:VCALENDAR