BEGIN:VCALENDAR
VERSION:2.0
PRODID:-//STADTKULTUR HAMBURG//kultur-hamburg.de///DE
CALSCALE:GREGORIAN
BEGIN:VEVENT
X-WR-TIMEZONE:Europe/Berlin
DTSTART:20121020T120000
DTEND:20121020T170000
LOCATION:KulturKlinker Barmbek e.V. \, Lorichsstraße 28 a \, 22307 Hamburg
DTSTAMP:20260423T052902
SUMMARY:Workshop: 5 Tibeter
URL;VALUE=URI:https://www.kultur-hamburg.de/kurse_workshops/workshop-5-tibeter-86122
DESCRIPTION:Einfache, hochwirksame, energetische Körperübungen, die durch eine spezielle, tiefe und bewusste Atmung unterstützt werden.
UID:940c99c76d1b28f45336f6cb5d3a6ed5@kulturhamburg
END:VEVENT
END:VCALENDAR