BEGIN:VCALENDAR
VERSION:2.0
PRODID:-//STADTKULTUR HAMBURG//kultur-hamburg.de///DE
CALSCALE:GREGORIAN
BEGIN:VEVENT
X-WR-TIMEZONE:Europe/Berlin
DTSTART:20130815T143000
DTEND:20130815T183000
LOCATION:Bramfelder Kulturladen e. V. - BRAKULA \, Bramfelder Chaussee 265 \, 22177 Hamburg
DTSTAMP:20260425T174958
SUMMARY:Klavier für Kinder
URL;VALUE=URI:https://www.kultur-hamburg.de/kurse_workshops/klavier-fuer-kinder-86753
DESCRIPTION:
UID:f59a769c14eeb8486c4c8f78d5cd9c27@kulturhamburg
END:VEVENT
END:VCALENDAR