BEGIN:VCALENDAR
VERSION:2.0
PRODID:-//STADTKULTUR HAMBURG//kultur-hamburg.de///DE
CALSCALE:GREGORIAN
BEGIN:VEVENT
X-WR-TIMEZONE:Europe/Berlin
DTSTART:20130912T143000
DTEND:20130912T183000
LOCATION:Bramfelder Kulturladen e. V. - BRAKULA \, Bramfelder Chaussee 265 \, 22177 Hamburg
DTSTAMP:20260423T103611
SUMMARY:Klavier für Kinder
URL;VALUE=URI:https://www.kultur-hamburg.de/kurse_workshops/klavier-fuer-kinder-86757
DESCRIPTION:
UID:622779732f62a5d5500ab706a0f2961e@kulturhamburg
END:VEVENT
END:VCALENDAR