BEGIN:VCALENDAR
VERSION:2.0
PRODID:-//STADTKULTUR HAMBURG//kultur-hamburg.de///DE
CALSCALE:GREGORIAN
BEGIN:VEVENT
X-WR-TIMEZONE:Europe/Berlin
DTSTART:20130926T143000
DTEND:20130926T183000
LOCATION:Bramfelder Kulturladen e. V. - BRAKULA \, Bramfelder Chaussee 265 \, 22177 Hamburg
DTSTAMP:20260423T072016
SUMMARY:Klavier für Kinder
URL;VALUE=URI:https://www.kultur-hamburg.de/kurse_workshops/klavier-fuer-kinder-86759
DESCRIPTION:
UID:bc9e6cd132be8edd69b6478c2c2f7f2e@kulturhamburg
END:VEVENT
END:VCALENDAR