BEGIN:VCALENDAR
VERSION:2.0
PRODID:-//STADTKULTUR HAMBURG//kultur-hamburg.de///DE
CALSCALE:GREGORIAN
BEGIN:VEVENT
X-WR-TIMEZONE:Europe/Berlin
DTSTART:20131128T143000
DTEND:20131128T183000
LOCATION:Bramfelder Kulturladen e. V. - BRAKULA \, Bramfelder Chaussee 265 \, 22177 Hamburg
DTSTAMP:20260422T160010
SUMMARY:Klavier für Kinder
URL;VALUE=URI:https://www.kultur-hamburg.de/kurse_workshops/klavier-fuer-kinder-86768
DESCRIPTION:
UID:160fe02eb0fc3a8dc60ac0156803354c@kulturhamburg
END:VEVENT
END:VCALENDAR