BEGIN:VCALENDAR
VERSION:2.0
PRODID:-//STADTKULTUR HAMBURG//kultur-hamburg.de///DE
CALSCALE:GREGORIAN
BEGIN:VEVENT
X-WR-TIMEZONE:Europe/Berlin
DTSTART:20131205T143000
DTEND:20131205T183000
LOCATION:Bramfelder Kulturladen e. V. - BRAKULA \, Bramfelder Chaussee 265 \, 22177 Hamburg
DTSTAMP:20260422T141434
SUMMARY:Klavier für Kinder
URL;VALUE=URI:https://www.kultur-hamburg.de/kurse_workshops/klavier-fuer-kinder-86769
DESCRIPTION:
UID:84ad7f457a41aaf182d275073ecbdc9f@kulturhamburg
END:VEVENT
END:VCALENDAR