BEGIN:VCALENDAR
VERSION:2.0
PRODID:-//STADTKULTUR HAMBURG//kultur-hamburg.de///DE
CALSCALE:GREGORIAN
BEGIN:VEVENT
X-WR-TIMEZONE:Europe/Berlin
DTSTART:20130924T161500
DTEND:20130924T171500
LOCATION:Bramfelder Kulturladen e. V. - BRAKULA \, Bramfelder Chaussee 265 \, 22177 Hamburg
DTSTAMP:20260423T072055
SUMMARY:Kreativer Kindertanz
URL;VALUE=URI:https://www.kultur-hamburg.de/kurse_workshops/kreativer-kindertanz-86811
DESCRIPTION:
UID:8be1d4f9c109d77b302fe9b0a1b2931e@kulturhamburg
END:VEVENT
END:VCALENDAR