BEGIN:VCALENDAR
VERSION:2.0
PRODID:-//STADTKULTUR HAMBURG//kultur-hamburg.de///DE
CALSCALE:GREGORIAN
BEGIN:VEVENT
X-WR-TIMEZONE:Europe/Berlin
DTSTART:20131029T161500
DTEND:20131029T171500
LOCATION:Bramfelder Kulturladen e. V. - BRAKULA \, Bramfelder Chaussee 265 \, 22177 Hamburg
DTSTAMP:20260422T222634
SUMMARY:Kreativer Kindertanz
URL;VALUE=URI:https://www.kultur-hamburg.de/kurse_workshops/kreativer-kindertanz-86816
DESCRIPTION:
UID:483f5dd73345541443850c2de041d3e4@kulturhamburg
END:VEVENT
END:VCALENDAR