BEGIN:VCALENDAR
VERSION:2.0
PRODID:-//STADTKULTUR HAMBURG//kultur-hamburg.de///DE
CALSCALE:GREGORIAN
BEGIN:VEVENT
X-WR-TIMEZONE:Europe/Berlin
DTSTART:20131126T161500
DTEND:20131126T171500
LOCATION:Bramfelder Kulturladen e. V. - BRAKULA \, Bramfelder Chaussee 265 \, 22177 Hamburg
DTSTAMP:20260422T154658
SUMMARY:Kreativer Kindertanz
URL;VALUE=URI:https://www.kultur-hamburg.de/kurse_workshops/kreativer-kindertanz-86820
DESCRIPTION:
UID:8710b6c2dc49382ff09aa492f322eda5@kulturhamburg
END:VEVENT
END:VCALENDAR