BEGIN:VCALENDAR
VERSION:2.0
PRODID:-//STADTKULTUR HAMBURG//kultur-hamburg.de///DE
CALSCALE:GREGORIAN
BEGIN:VEVENT
X-WR-TIMEZONE:Europe/Berlin
DTSTART:20131203T161500
DTEND:20131203T171500
LOCATION:Bramfelder Kulturladen e. V. - BRAKULA \, Bramfelder Chaussee 265 \, 22177 Hamburg
DTSTAMP:20260422T141532
SUMMARY:Kreativer Kindertanz
URL;VALUE=URI:https://www.kultur-hamburg.de/kurse_workshops/kreativer-kindertanz-86821
DESCRIPTION:
UID:6365f1a49ec1ae4c45f1240ac0d5268f@kulturhamburg
END:VEVENT
END:VCALENDAR