BEGIN:VCALENDAR
VERSION:2.0
PRODID:-//STADTKULTUR HAMBURG//kultur-hamburg.de///DE
CALSCALE:GREGORIAN
BEGIN:VEVENT
X-WR-TIMEZONE:Europe/Berlin
DTSTART:20131217T161500
DTEND:20131217T171500
LOCATION:Bramfelder Kulturladen e. V. - BRAKULA \, Bramfelder Chaussee 265 \, 22177 Hamburg
DTSTAMP:20260422T111424
SUMMARY:Kreativer Kindertanz
URL;VALUE=URI:https://www.kultur-hamburg.de/kurse_workshops/kreativer-kindertanz-86823
DESCRIPTION:
UID:db13ba49b642004563b9e0721bb4d20b@kulturhamburg
END:VEVENT
END:VCALENDAR