BEGIN:VCALENDAR
VERSION:2.0
PRODID:-//STADTKULTUR HAMBURG//kultur-hamburg.de///DE
CALSCALE:GREGORIAN
BEGIN:VEVENT
X-WR-TIMEZONE:Europe/Berlin
DTSTART:20121004T103000
DTEND:20121012T143000
LOCATION:Kulturladen St. Georg \, Alexanderstr. 16 \,  
DTSTAMP:20260423T091801
SUMMARY:Metallklangtanz
URL;VALUE=URI:https://www.kultur-hamburg.de/kurse_workshops/metallklangtanz-87024
DESCRIPTION:Du kannst Dich auf die Ferien freuen! Der Komponist und Klangerfinder Ferdinand und der Tänzer und Choreograf Philipp sind nämlich die Allerbesten, die für so einen Workshop infrage kommen. Du wirst auf den Schrottplatz gehen, dort Klänge entdecken und mit ihnen Musik und Bewegungen erfinden. Das machst Du nicht allein, sondern mit einem guten Dutzend Kindern zwischen 10 und 14 Jahren.
UID:6992c5ef35d551f9d275a98eb4a53f00@kulturhamburg
END:VEVENT
END:VCALENDAR