BEGIN:VCALENDAR
VERSION:2.0
PRODID:-//STADTKULTUR HAMBURG//kultur-hamburg.de///DE
CALSCALE:GREGORIAN
BEGIN:VEVENT
X-WR-TIMEZONE:Europe/Berlin
DTSTART:20120905T093000
DTEND:20120925T120000
LOCATION:
DTSTAMP:20260423T150004
SUMMARY:Farbenfroh
URL;VALUE=URI:https://www.kultur-hamburg.de/kurse_workshops/farbenfroh-89645
DESCRIPTION:Zeichnen und Malen zu verschiedenen Themen
Gemeinsam Bekanntes vertiefen und Neues ausprobieren.
UID:96847b0b8e1d45d491ea7914fa753468@kulturhamburg
END:VEVENT
END:VCALENDAR