BEGIN:VCALENDAR
VERSION:2.0
PRODID:-//STADTKULTUR HAMBURG//kultur-hamburg.de///DE
CALSCALE:GREGORIAN
BEGIN:VEVENT
X-WR-TIMEZONE:Europe/Berlin
DTSTART:20120913T200000
DTEND:20120927T220000
LOCATION:Ev. Familienbildung Eppendorf \, Loogeplatz 14/16 \, 20249 Hamburg
DTSTAMP:20260423T132913
SUMMARY:Präsenztraining — sicheres Auftreten können Sie lernen
URL;VALUE=URI:https://www.kultur-hamburg.de/kurse_workshops/praesenztraining-oe-sicheres-auftreten-koennen-sie-lernen-89646
DESCRIPTION:Möchten Sie Ihre eigene Präsenz verbessern? Für Reden, Vorträge, Präsentationen, Bewerbungsgespräche — für den Alltag.
UID:6b5f8bb38fa1c709413b731c924d0027@kulturhamburg
END:VEVENT
END:VCALENDAR