BEGIN:VCALENDAR
VERSION:2.0
PRODID:-//STADTKULTUR HAMBURG//kultur-hamburg.de///DE
CALSCALE:GREGORIAN
BEGIN:VEVENT
X-WR-TIMEZONE:Europe/Berlin
DTSTART:20120914T160000
DTEND:20120915T180000
LOCATION:Ev. Familienbildung Eppendorf \, Loogeplatz 14/16 \, 20249 Hamburg
DTSTAMP:20260423T132928
SUMMARY:Nähen mit der Maschine - Für Jugendliche ab 10 Jahren
URL;VALUE=URI:https://www.kultur-hamburg.de/kurse_workshops/naehen-mit-der-maschine-fuer-jugendliche-ab-10-jahren-89647
DESCRIPTION:Hast du Lust, mit bunten Stoffen und der Nähmaschine kreative Ideen umzusetzen? Lerne die Nähmaschine kennen und erfahre Interessantes über den Umgang mit verschiedenen Stoffen.
UID:60c0f31366beb8d58eabde4b83c63af7@kulturhamburg
END:VEVENT
END:VCALENDAR