BEGIN:VCALENDAR
VERSION:2.0
PRODID:-//STADTKULTUR HAMBURG//kultur-hamburg.de///DE
CALSCALE:GREGORIAN
BEGIN:VEVENT
X-WR-TIMEZONE:Europe/Berlin
DTSTART:20120915T160000
DTEND:20120916T180000
LOCATION:Ev. Familienbildung Eppendorf \, Loogeplatz 14/16 \, 20249 Hamburg
DTSTAMP:20260423T132032
SUMMARY:Schreiben macht Spaß
URL;VALUE=URI:https://www.kultur-hamburg.de/kurse_workshops/schreiben-macht-spass-89648
DESCRIPTION:Textwerkstatt am Wochenende
Schreiben ohne Leistungsdruck.
UID:085b2c422d56ff3068e561383e253014@kulturhamburg
END:VEVENT
END:VCALENDAR