BEGIN:VCALENDAR
VERSION:2.0
PRODID:-//STADTKULTUR HAMBURG//kultur-hamburg.de///DE
CALSCALE:GREGORIAN
BEGIN:VEVENT
X-WR-TIMEZONE:Europe/Berlin
DTSTART:20120928T180000
DTEND:20120928T213000
LOCATION:Ev. Familienbildung Eppendorf \, Loogeplatz 14/16 \, 20249 Hamburg
DTSTAMP:20260423T103541
SUMMARY:Kürbisköstlichkeiten
URL;VALUE=URI:https://www.kultur-hamburg.de/kurse_workshops/kuerbiskoestlichkeiten-89650
DESCRIPTION:Besonders im Herbst bereichern die vielen verschiedenen Kürbissorten
unsere Speisenpläne, denn sie sind die reinsten Verzauberungskünstler.
UID:6225969113428e82bd054a24e40f24ee@kulturhamburg
END:VEVENT
END:VCALENDAR