BEGIN:VCALENDAR
VERSION:2.0
PRODID:-//STADTKULTUR HAMBURG//kultur-hamburg.de///DE
CALSCALE:GREGORIAN
BEGIN:VEVENT
X-WR-TIMEZONE:Europe/Berlin
DTSTART:20120917T190000
DTEND:20120917T213000
LOCATION:Ev. Familienbildung Hamm-Horn \, Bei der Hammer Kirche 16 \, 20535 Hamburg
DTSTAMP:20260423T120817
SUMMARY:Sushi — neue Rezepte —
URL;VALUE=URI:https://www.kultur-hamburg.de/kurse_workshops/sushi-oe-neue-rezepte-oe-89651
DESCRIPTION:auch für AnfängerInnen geeignet
Bitte mitbringen: Dosen für Reste.
UID:cb85ebc9614b2059324996697370e97c@kulturhamburg
END:VEVENT
END:VCALENDAR