BEGIN:VCALENDAR
VERSION:2.0
PRODID:-//STADTKULTUR HAMBURG//kultur-hamburg.de///DE
CALSCALE:GREGORIAN
BEGIN:VEVENT
X-WR-TIMEZONE:Europe/Berlin
DTSTART:20120926T153000
DTEND:20120926T173000
LOCATION:Ev. Familienbildung Hamm-Horn \, Bei der Hammer Kirche 16 \, 20535 Hamburg
DTSTAMP:20260423T103524
SUMMARY:Forschernachmittage
URL;VALUE=URI:https://www.kultur-hamburg.de/kurse_workshops/forschernachmittage-89652
DESCRIPTION:Ein Apfel — schön, gesund und so lecker
Die Äpfel sind reif! Welche Sorten gibt es? Wie ist ihr Geruch,
ihr Geschmack, wie sehen sie aus? Aus dem Kochtopf schmecken
sie ebenfalls und sogar basteln kann man mit ihnen.
UID:cdaa72bbcde56d3d8665070587456d04@kulturhamburg
END:VEVENT
END:VCALENDAR