BEGIN:VCALENDAR
VERSION:2.0
PRODID:-//STADTKULTUR HAMBURG//kultur-hamburg.de///DE
CALSCALE:GREGORIAN
BEGIN:VEVENT
X-WR-TIMEZONE:Europe/Berlin
DTSTART:20120917T191500
DTEND:20120917T221500
LOCATION:Elternschule Osdorf \, Bornheide 76c \, 22549 Hamburg
DTSTAMP:20260423T121519
SUMMARY:Kochen mit vielen Kräutern
URL;VALUE=URI:https://www.kultur-hamburg.de/kurse_workshops/kochen-mit-vielen-kraeutern-89707
DESCRIPTION:Leitung Inge Nolting
AOsdM113 1 x Mo 19:15 — 22:15 Uhr / 17.09.2012
UID:d016238eb65e15f10de87eb6f0b95ee3@kulturhamburg
END:VEVENT
END:VCALENDAR