BEGIN:VCALENDAR
VERSION:2.0
PRODID:-//STADTKULTUR HAMBURG//kultur-hamburg.de///DE
CALSCALE:GREGORIAN
BEGIN:VEVENT
X-WR-TIMEZONE:Europe/Berlin
DTSTART:20120924T191500
DTEND:20120924T221500
LOCATION:Elternschule Osdorf \, Bornheide 76c \, 22549 Hamburg
DTSTAMP:20260423T105246
SUMMARY:Die ländliche Küche Spaniens
URL;VALUE=URI:https://www.kultur-hamburg.de/kurse_workshops/die-laendliche-kueche-spaniens-89708
DESCRIPTION:
UID:6bcb32ed40f8885fc04316991d723780@kulturhamburg
END:VEVENT
END:VCALENDAR