BEGIN:VCALENDAR
VERSION:2.0
PRODID:-//STADTKULTUR HAMBURG//kultur-hamburg.de///DE
CALSCALE:GREGORIAN
BEGIN:VEVENT
X-WR-TIMEZONE:Europe/Berlin
DTSTART:20120913T180000
DTEND:20120913T203000
LOCATION:Ev. Familienbildung Poppenbüttel \, Poppenbütteler Weg 97 \, 22399 Hamburg
DTSTAMP:20260423T132302
SUMMARY:Swarovskischmuck im Duett –
URL;VALUE=URI:https://www.kultur-hamburg.de/kurse_workshops/swarovskischmuck-im-duett--89709
DESCRIPTION:für Mütter und Töchter (11 – 16 Jahren)
Gemeinsam kreativ. Jede von Ihnen fädelt eine Swarovski-Schmuckkugel
und gemeinsam erstellen Sie eine Kette, einen (Taschen-)Anhänger oder
ein Lesezeichen.
UID:2d5b63a05f1b845ea1543d3d2a6cdb1e@kulturhamburg
END:VEVENT
END:VCALENDAR