BEGIN:VCALENDAR
VERSION:2.0
PRODID:-//STADTKULTUR HAMBURG//kultur-hamburg.de///DE
CALSCALE:GREGORIAN
BEGIN:VEVENT
X-WR-TIMEZONE:Europe/Berlin
DTSTART:20120920T200000
DTEND:20120927T220000
LOCATION:Ev. Familienbildung Poppenbüttel \, Poppenbütteler Weg 97 \, 22399 Hamburg
DTSTAMP:20260423T114909
SUMMARY:Zappelphillip & Co.
URL;VALUE=URI:https://www.kultur-hamburg.de/kurse_workshops/zappelphillip-&-co.-89711
DESCRIPTION:Mein Kind ist nicht zu bremsen
Bei einem Kind, das überdreht, impulsiv und schwer steuerbar ist, sind
Eltern häufig mit ihrem Latein am Ende.
UID:bd2a5503e5ced5265e796cea87ceed35@kulturhamburg
END:VEVENT
END:VCALENDAR