BEGIN:VCALENDAR
VERSION:2.0
PRODID:-//STADTKULTUR HAMBURG//kultur-hamburg.de///DE
CALSCALE:GREGORIAN
BEGIN:VEVENT
X-WR-TIMEZONE:Europe/Berlin
DTSTART:20121009T110000
DTEND:20121010T150000
LOCATION:TASK Schauspielschule für Kinder und Jugendliche \, Stresemannstraße 163 (Neue Flora) \, 22769 Hamburg
DTSTAMP:20260423T072058
SUMMARY:Ferien-Special ab 8 J. : Trickfilm selbst gemacht! Von Klonenkriegern und Sternzerstörern
URL;VALUE=URI:https://www.kultur-hamburg.de/kurse_workshops/ferien-special-ab-8-j.--trickfilm-selbst-gemacht!-von-klonenkriegern-und-sternzerstoerern-90014
DESCRIPTION:Hier werden Fantasiefiguren zum Leben erweckt.
UID:6530334abd7c9bae182aa211a065db62@kulturhamburg
END:VEVENT
END:VCALENDAR