BEGIN:VCALENDAR
VERSION:2.0
PRODID:-//STADTKULTUR HAMBURG//kultur-hamburg.de///DE
CALSCALE:GREGORIAN
BEGIN:VEVENT
X-WR-TIMEZONE:Europe/Berlin
DTSTART:20121027T110000
DTEND:20121028T150000
LOCATION:TASK Schauspielschule für Kinder und Jugendliche \, Stresemannstraße 163 (Neue Flora) \, 22769 Hamburg
DTSTAMP:20260423T033807
SUMMARY:Hörspiel-Workshop ab 10 J.
URL;VALUE=URI:https://www.kultur-hamburg.de/kurse_workshops/hoerspiel-workshop-ab-10-j.-90018
DESCRIPTION:Ziel dieses Kurses ist eine selbst produzierte Hörspiel-CD!
UID:8fc56320f37b6bab156b931e49b3a520@kulturhamburg
END:VEVENT
END:VCALENDAR