BEGIN:VCALENDAR
VERSION:2.0
PRODID:-//STADTKULTUR HAMBURG//kultur-hamburg.de///DE
CALSCALE:GREGORIAN
BEGIN:VEVENT
X-WR-TIMEZONE:Europe/Berlin
DTSTART:20121111T110000
DTEND:20121111T170000
LOCATION:TASK Schauspielschule für Kinder und Jugendliche \, Stresemannstraße 163 (Neue Flora) \, 22769 Hamburg
DTSTAMP:20260423T001832
SUMMARY:Stuntfighting-Workshop ab 11 J.
URL;VALUE=URI:https://www.kultur-hamburg.de/kurse_workshops/stuntfighting-workshop-ab-11-j.-90022
DESCRIPTION:Hier lernt man Tricks und bekommt Tipps vom Profi, wie mit z.B. Kampf-Szenen umgegangen wird.
UID:1146fc0ba460c90dcbf4f8a33173311f@kulturhamburg
END:VEVENT
END:VCALENDAR