BEGIN:VCALENDAR
VERSION:2.0
PRODID:-//STADTKULTUR HAMBURG//kultur-hamburg.de///DE
CALSCALE:GREGORIAN
BEGIN:VEVENT
X-WR-TIMEZONE:Europe/Berlin
DTSTART:20121125T110000
DTEND:20121202T150000
LOCATION:TASK Schauspielschule für Kinder und Jugendliche \, Stresemannstraße 163 (Neue Flora) \, 22769 Hamburg
DTSTAMP:20260422T204732
SUMMARY:Wir drehen einen Weihnachtsfilm! Schauspielworkshop (7-10 J.)
URL;VALUE=URI:https://www.kultur-hamburg.de/kurse_workshops/wir-drehen-einen-weihnachtsfilm!-schauspielworkshop-7-10-j.-90024
DESCRIPTION:Die Minis entwickeln und drehen eine eigene Weihnachtsgeschichte. Den geschnittenen Film gibt's als Geschenk-DVD.
UID:d48f13564e2ea30a2c77c24282f97926@kulturhamburg
END:VEVENT
END:VCALENDAR