BEGIN:VCALENDAR
VERSION:2.0
PRODID:-//STADTKULTUR HAMBURG//kultur-hamburg.de///DE
CALSCALE:GREGORIAN
BEGIN:VEVENT
X-WR-TIMEZONE:Europe/Berlin
DTSTART:20121015T200000
DTEND:20121112T220000
LOCATION:
DTSTAMP:20260423T052902
SUMMARY:Fit im Internet — Computerkurs ab 55
URL;VALUE=URI:https://www.kultur-hamburg.de/kurse_workshops/fit-im-internet-oe-computerkurs-ab-55-90841
DESCRIPTION:An fünf Abenden lernen Sie, wie Sie am besten ins Internet
kommen und erfolgreich damit umgehen können.
UID:a756e929cb5701ef9b71e10352bcf2d9@kulturhamburg
END:VEVENT
END:VCALENDAR