BEGIN:VCALENDAR
VERSION:2.0
PRODID:-//STADTKULTUR HAMBURG//kultur-hamburg.de///DE
CALSCALE:GREGORIAN
BEGIN:VEVENT
X-WR-TIMEZONE:Europe/Berlin
DTSTART:20121019T170000
DTEND:20121019T183000
LOCATION:Ev. Familienbildung Eppendorf \, Loogeplatz 14/16 \, 20249 Hamburg
DTSTAMP:20260423T052902
SUMMARY:Theater gemeinsam erleben
URL;VALUE=URI:https://www.kultur-hamburg.de/kurse_workshops/theater-gemeinsam-erleben-90872
DESCRIPTION:mit einer spannenden, unterhaltsamen und aufregenden Inszenierung an
einem Hamburger Theater.
UID:5c2f01a836bd3e562d8b6f3f77f53c08@kulturhamburg
END:VEVENT
END:VCALENDAR